BEGIN:VCALENDAR
VERSION:2.0
PRODID:-//Charleston County Rescue Squad - ECPv6.15.20//NONSGML v1.0//EN
CALSCALE:GREGORIAN
METHOD:PUBLISH
X-WR-CALNAME:Charleston County Rescue Squad
X-ORIGINAL-URL:https://charlestonrescue.com
X-WR-CALDESC:Events for Charleston County Rescue Squad
REFRESH-INTERVAL;VALUE=DURATION:PT1H
X-Robots-Tag:noindex
X-PUBLISHED-TTL:PT1H
BEGIN:VTIMEZONE
TZID:America/New_York
BEGIN:DAYLIGHT
TZOFFSETFROM:-0500
TZOFFSETTO:-0400
TZNAME:EDT
DTSTART:20220313T070000
END:DAYLIGHT
BEGIN:STANDARD
TZOFFSETFROM:-0400
TZOFFSETTO:-0500
TZNAME:EST
DTSTART:20221106T060000
END:STANDARD
BEGIN:DAYLIGHT
TZOFFSETFROM:-0500
TZOFFSETTO:-0400
TZNAME:EDT
DTSTART:20230312T070000
END:DAYLIGHT
BEGIN:STANDARD
TZOFFSETFROM:-0400
TZOFFSETTO:-0500
TZNAME:EST
DTSTART:20231105T060000
END:STANDARD
BEGIN:DAYLIGHT
TZOFFSETFROM:-0500
TZOFFSETTO:-0400
TZNAME:EDT
DTSTART:20240310T070000
END:DAYLIGHT
BEGIN:STANDARD
TZOFFSETFROM:-0400
TZOFFSETTO:-0500
TZNAME:EST
DTSTART:20241103T060000
END:STANDARD
BEGIN:DAYLIGHT
TZOFFSETFROM:-0500
TZOFFSETTO:-0400
TZNAME:EDT
DTSTART:20250309T070000
END:DAYLIGHT
BEGIN:STANDARD
TZOFFSETFROM:-0400
TZOFFSETTO:-0500
TZNAME:EST
DTSTART:20251102T060000
END:STANDARD
END:VTIMEZONE
BEGIN:VEVENT
DTSTART;TZID=America/New_York:20240423T190000
DTEND;TZID=America/New_York:20240423T203000
DTSTAMP:20260420T184722
CREATED:20240215T174946Z
LAST-MODIFIED:20240215T175921Z
UID:10845-1713898800-1713904200@charlestonrescue.com
SUMMARY:Rescue Training II - April 2024
DESCRIPTION:Our ongoing comprehensive training series for new and existing members\, eager to learn and become certified in various specialties.
URL:https://charlestonrescue.com/event/rescue-training-ii-april-2024/
LOCATION:Rescue Squad Headquarters\, 2521 Rescue Drive\, North Charleston\, SC\, 2521\, United States
CATEGORIES:Training
ATTACH;FMTTYPE=image/jpeg:https://charlestonrescue.com/wp-content/uploads/2021/12/event-training.jpg
END:VEVENT
BEGIN:VEVENT
DTSTART;TZID=America/New_York:20240409T190000
DTEND;TZID=America/New_York:20240409T203000
DTSTAMP:20260420T184722
CREATED:20240215T173101Z
LAST-MODIFIED:20240215T173101Z
UID:10821-1712689200-1712694600@charlestonrescue.com
SUMMARY:Rescue Training I - April 2024
DESCRIPTION:Our ongoing comprehensive training series for new and existing members\, eager to learn and become certified in various specialties.
URL:https://charlestonrescue.com/event/rescue-training-i-april-2024/
LOCATION:Rescue Squad Headquarters\, 2521 Rescue Drive\, North Charleston\, SC\, 2521\, United States
CATEGORIES:Training
ATTACH;FMTTYPE=image/jpeg:https://charlestonrescue.com/wp-content/uploads/2021/12/event-training.jpg
END:VEVENT
BEGIN:VEVENT
DTSTART;TZID=America/New_York:20240326T190000
DTEND;TZID=America/New_York:20240326T203000
DTSTAMP:20260420T184722
CREATED:20240215T174824Z
LAST-MODIFIED:20240215T174824Z
UID:10843-1711479600-1711485000@charlestonrescue.com
SUMMARY:Rescue Training II - March 2024
DESCRIPTION:Our ongoing comprehensive training series for new and existing members\, eager to learn and become certified in various specialties.
URL:https://charlestonrescue.com/event/rescue-training-ii-march-2024/
LOCATION:Rescue Squad Headquarters\, 2521 Rescue Drive\, North Charleston\, SC\, 2521\, United States
CATEGORIES:Training
ATTACH;FMTTYPE=image/jpeg:https://charlestonrescue.com/wp-content/uploads/2021/12/event-training.jpg
END:VEVENT
BEGIN:VEVENT
DTSTART;TZID=America/New_York:20240312T190000
DTEND;TZID=America/New_York:20240312T203000
DTSTAMP:20260420T184722
CREATED:20240215T173005Z
LAST-MODIFIED:20240215T173005Z
UID:10819-1710270000-1710275400@charlestonrescue.com
SUMMARY:Rescue Training I - March 2024
DESCRIPTION:Our ongoing comprehensive training series for new and existing members\, eager to learn and become certified in various specialties.
URL:https://charlestonrescue.com/event/rescue-training-i-march-2024/
LOCATION:Rescue Squad Headquarters\, 2521 Rescue Drive\, North Charleston\, SC\, 2521\, United States
CATEGORIES:Training
ATTACH;FMTTYPE=image/jpeg:https://charlestonrescue.com/wp-content/uploads/2021/12/event-training.jpg
END:VEVENT
BEGIN:VEVENT
DTSTART;TZID=America/New_York:20240227T190000
DTEND;TZID=America/New_York:20240227T203000
DTSTAMP:20260420T184722
CREATED:20240215T174700Z
LAST-MODIFIED:20240215T174700Z
UID:10841-1709060400-1709065800@charlestonrescue.com
SUMMARY:Rescue Training II - February 2024
DESCRIPTION:Our ongoing comprehensive training series for new and existing members\, eager to learn and become certified in various specialties.
URL:https://charlestonrescue.com/event/rescue-training-ii-february-2024/
LOCATION:Rescue Squad Headquarters\, 2521 Rescue Drive\, North Charleston\, SC\, 2521\, United States
CATEGORIES:Training
ATTACH;FMTTYPE=image/jpeg:https://charlestonrescue.com/wp-content/uploads/2021/12/event-training.jpg
END:VEVENT
BEGIN:VEVENT
DTSTART;TZID=America/New_York:20240213T190000
DTEND;TZID=America/New_York:20240213T203000
DTSTAMP:20260420T184722
CREATED:20240215T172912Z
LAST-MODIFIED:20240215T172912Z
UID:10817-1707850800-1707856200@charlestonrescue.com
SUMMARY:Rescue Training I - February 2024
DESCRIPTION:Our ongoing comprehensive training series for new and existing members\, eager to learn and become certified in various specialties.
URL:https://charlestonrescue.com/event/rescue-training-i-february-2024/
LOCATION:Rescue Squad Headquarters\, 2521 Rescue Drive\, North Charleston\, SC\, 2521\, United States
CATEGORIES:Training
ATTACH;FMTTYPE=image/jpeg:https://charlestonrescue.com/wp-content/uploads/2021/12/event-training.jpg
END:VEVENT
BEGIN:VEVENT
DTSTART;TZID=America/New_York:20240123T190000
DTEND;TZID=America/New_York:20240123T203000
DTSTAMP:20260420T184722
CREATED:20240215T174444Z
LAST-MODIFIED:20240215T174444Z
UID:10839-1706036400-1706041800@charlestonrescue.com
SUMMARY:Rescue Training II - January 2024
DESCRIPTION:Our ongoing comprehensive training series for new and existing members\, eager to learn and become certified in various specialties.
URL:https://charlestonrescue.com/event/rescue-training-ii-january-2024/
LOCATION:Rescue Squad Headquarters\, 2521 Rescue Drive\, North Charleston\, SC\, 2521\, United States
CATEGORIES:Training
ATTACH;FMTTYPE=image/jpeg:https://charlestonrescue.com/wp-content/uploads/2021/12/event-training.jpg
END:VEVENT
BEGIN:VEVENT
DTSTART;TZID=America/New_York:20240109T190000
DTEND;TZID=America/New_York:20240109T203000
DTSTAMP:20260420T184722
CREATED:20240215T172752Z
LAST-MODIFIED:20240215T172752Z
UID:10815-1704826800-1704832200@charlestonrescue.com
SUMMARY:Rescue Training I - January 2024
DESCRIPTION:Our ongoing comprehensive training series for new and existing members\, eager to learn and become certified in various specialties.
URL:https://charlestonrescue.com/event/rescue-training-i-january-2024/
LOCATION:Rescue Squad Headquarters\, 2521 Rescue Drive\, North Charleston\, SC\, 2521\, United States
CATEGORIES:Training
ATTACH;FMTTYPE=image/jpeg:https://charlestonrescue.com/wp-content/uploads/2021/12/event-training.jpg
END:VEVENT
BEGIN:VEVENT
DTSTART;TZID=America/New_York:20231226T190000
DTEND;TZID=America/New_York:20231226T203000
DTSTAMP:20260420T184722
CREATED:20230119T145359Z
LAST-MODIFIED:20230119T145359Z
UID:6734-1703617200-1703622600@charlestonrescue.com
SUMMARY:Rescue Training II - December 2023
DESCRIPTION:Our ongoing comprehensive training series for new and existing members\, eager to learn and become certified in various specialties.
URL:https://charlestonrescue.com/event/rescue-training-ii-december-2023/
LOCATION:Rescue Squad Headquarters\, 2521 Rescue Drive\, North Charleston\, SC\, 2521\, United States
CATEGORIES:Training
ATTACH;FMTTYPE=image/jpeg:https://charlestonrescue.com/wp-content/uploads/2021/12/event-training.jpg
END:VEVENT
BEGIN:VEVENT
DTSTART;TZID=America/New_York:20231212T190000
DTEND;TZID=America/New_York:20231212T203000
DTSTAMP:20260420T184722
CREATED:20230119T144116Z
LAST-MODIFIED:20230119T144116Z
UID:6710-1702407600-1702413000@charlestonrescue.com
SUMMARY:Rescue Training I - December 2023
DESCRIPTION:Our ongoing comprehensive training series for new and existing members\, eager to learn and become certified in various specialties.
URL:https://charlestonrescue.com/event/rescue-training-i-december-2023/
LOCATION:Rescue Squad Headquarters\, 2521 Rescue Drive\, North Charleston\, SC\, 2521\, United States
CATEGORIES:Training
ATTACH;FMTTYPE=image/jpeg:https://charlestonrescue.com/wp-content/uploads/2021/12/event-training.jpg
END:VEVENT
BEGIN:VEVENT
DTSTART;TZID=America/New_York:20231128T190000
DTEND;TZID=America/New_York:20231128T203000
DTSTAMP:20260420T184722
CREATED:20230119T145259Z
LAST-MODIFIED:20230119T145259Z
UID:6732-1701198000-1701203400@charlestonrescue.com
SUMMARY:Rescue Training II - November 2023
DESCRIPTION:Our ongoing comprehensive training series for new and existing members\, eager to learn and become certified in various specialties.
URL:https://charlestonrescue.com/event/rescue-training-ii-november-2023/
LOCATION:Rescue Squad Headquarters\, 2521 Rescue Drive\, North Charleston\, SC\, 2521\, United States
CATEGORIES:Training
ATTACH;FMTTYPE=image/jpeg:https://charlestonrescue.com/wp-content/uploads/2021/12/event-training.jpg
END:VEVENT
BEGIN:VEVENT
DTSTART;TZID=America/New_York:20231114T190000
DTEND;TZID=America/New_York:20231114T203000
DTSTAMP:20260420T184722
CREATED:20230119T144030Z
LAST-MODIFIED:20230119T144030Z
UID:6708-1699988400-1699993800@charlestonrescue.com
SUMMARY:Rescue Training I - November 2023
DESCRIPTION:Our ongoing comprehensive training series for new and existing members\, eager to learn and become certified in various specialties.
URL:https://charlestonrescue.com/event/rescue-training-i-november-2023/
LOCATION:Rescue Squad Headquarters\, 2521 Rescue Drive\, North Charleston\, SC\, 2521\, United States
CATEGORIES:Training
ATTACH;FMTTYPE=image/jpeg:https://charlestonrescue.com/wp-content/uploads/2021/12/event-training.jpg
END:VEVENT
BEGIN:VEVENT
DTSTART;TZID=America/New_York:20231024T190000
DTEND;TZID=America/New_York:20231024T203000
DTSTAMP:20260420T184722
CREATED:20230119T145210Z
LAST-MODIFIED:20230119T145210Z
UID:6730-1698174000-1698179400@charlestonrescue.com
SUMMARY:Rescue Training II - October 2023
DESCRIPTION:Our ongoing comprehensive training series for new and existing members\, eager to learn and become certified in various specialties.
URL:https://charlestonrescue.com/event/rescue-training-ii-october-2023/
LOCATION:Rescue Squad Headquarters\, 2521 Rescue Drive\, North Charleston\, SC\, 2521\, United States
CATEGORIES:Training
ATTACH;FMTTYPE=image/jpeg:https://charlestonrescue.com/wp-content/uploads/2021/12/event-training.jpg
END:VEVENT
BEGIN:VEVENT
DTSTART;TZID=America/New_York:20231010T190000
DTEND;TZID=America/New_York:20231010T203000
DTSTAMP:20260420T184722
CREATED:20230119T143449Z
LAST-MODIFIED:20230119T143916Z
UID:6706-1696964400-1696969800@charlestonrescue.com
SUMMARY:Rescue Training I - October 2023
DESCRIPTION:Our ongoing comprehensive training series for new and existing members\, eager to learn and become certified in various specialties.
URL:https://charlestonrescue.com/event/rescue-training-i-october-2023/
LOCATION:Rescue Squad Headquarters\, 2521 Rescue Drive\, North Charleston\, SC\, 2521\, United States
CATEGORIES:Training
ATTACH;FMTTYPE=image/jpeg:https://charlestonrescue.com/wp-content/uploads/2021/12/event-training.jpg
END:VEVENT
BEGIN:VEVENT
DTSTART;TZID=America/New_York:20230926T190000
DTEND;TZID=America/New_York:20230926T203000
DTSTAMP:20260420T184722
CREATED:20230119T145117Z
LAST-MODIFIED:20230119T145117Z
UID:6728-1695754800-1695760200@charlestonrescue.com
SUMMARY:Rescue Training II - September 2023
DESCRIPTION:Our ongoing comprehensive training series for new and existing members\, eager to learn and become certified in various specialties.
URL:https://charlestonrescue.com/event/rescue-training-ii-september-2023/
LOCATION:Rescue Squad Headquarters\, 2521 Rescue Drive\, North Charleston\, SC\, 2521\, United States
CATEGORIES:Training
ATTACH;FMTTYPE=image/jpeg:https://charlestonrescue.com/wp-content/uploads/2021/12/event-training.jpg
END:VEVENT
BEGIN:VEVENT
DTSTART;TZID=America/New_York:20230912T190000
DTEND;TZID=America/New_York:20230912T203000
DTSTAMP:20260420T184722
CREATED:20230119T143342Z
LAST-MODIFIED:20230119T143342Z
UID:6704-1694545200-1694550600@charlestonrescue.com
SUMMARY:Rescue Training I - September 2023
DESCRIPTION:Our ongoing comprehensive training series for new and existing members\, eager to learn and become certified in various specialties.
URL:https://charlestonrescue.com/event/rescue-training-i-september-2023/
LOCATION:Rescue Squad Headquarters\, 2521 Rescue Drive\, North Charleston\, SC\, 2521\, United States
CATEGORIES:Training
ATTACH;FMTTYPE=image/jpeg:https://charlestonrescue.com/wp-content/uploads/2021/12/event-training.jpg
END:VEVENT
BEGIN:VEVENT
DTSTART;TZID=America/New_York:20230822T190000
DTEND;TZID=America/New_York:20230822T203000
DTSTAMP:20260420T184722
CREATED:20230119T145001Z
LAST-MODIFIED:20230119T145001Z
UID:6726-1692730800-1692736200@charlestonrescue.com
SUMMARY:Rescue Training II - August 2023
DESCRIPTION:Our ongoing comprehensive training series for new and existing members\, eager to learn and become certified in various specialties.
URL:https://charlestonrescue.com/event/rescue-training-ii-august-2023/
LOCATION:Rescue Squad Headquarters\, 2521 Rescue Drive\, North Charleston\, SC\, 2521\, United States
CATEGORIES:Training
ATTACH;FMTTYPE=image/jpeg:https://charlestonrescue.com/wp-content/uploads/2021/12/event-training.jpg
END:VEVENT
BEGIN:VEVENT
DTSTART;TZID=America/New_York:20230808T190000
DTEND;TZID=America/New_York:20230808T203000
DTSTAMP:20260420T184722
CREATED:20230119T143243Z
LAST-MODIFIED:20230119T143243Z
UID:6702-1691521200-1691526600@charlestonrescue.com
SUMMARY:Rescue Training I - August 2023
DESCRIPTION:Our ongoing comprehensive training series for new and existing members\, eager to learn and become certified in various specialties.
URL:https://charlestonrescue.com/event/rescue-training-i-august-2023/
LOCATION:Rescue Squad Headquarters\, 2521 Rescue Drive\, North Charleston\, SC\, 2521\, United States
CATEGORIES:Training
ATTACH;FMTTYPE=image/jpeg:https://charlestonrescue.com/wp-content/uploads/2021/12/event-training.jpg
END:VEVENT
BEGIN:VEVENT
DTSTART;TZID=America/New_York:20230725T190000
DTEND;TZID=America/New_York:20230725T203000
DTSTAMP:20260420T184722
CREATED:20230119T144836Z
LAST-MODIFIED:20230119T144902Z
UID:6724-1690311600-1690317000@charlestonrescue.com
SUMMARY:Rescue Training II - July 2023
DESCRIPTION:Our ongoing comprehensive training series for new and existing members\, eager to learn and become certified in various specialties.
URL:https://charlestonrescue.com/event/rescue-training-ii-july-2023/
LOCATION:Rescue Squad Headquarters\, 2521 Rescue Drive\, North Charleston\, SC\, 2521\, United States
CATEGORIES:Training
ATTACH;FMTTYPE=image/jpeg:https://charlestonrescue.com/wp-content/uploads/2021/12/event-training.jpg
END:VEVENT
BEGIN:VEVENT
DTSTART;TZID=America/New_York:20230711T190000
DTEND;TZID=America/New_York:20230711T203000
DTSTAMP:20260420T184722
CREATED:20230119T142831Z
LAST-MODIFIED:20230119T142831Z
UID:6700-1689102000-1689107400@charlestonrescue.com
SUMMARY:Rescue Training I - July 2023
DESCRIPTION:Our ongoing comprehensive training series for new and existing members\, eager to learn and become certified in various specialties.
URL:https://charlestonrescue.com/event/rescue-training-i-july-2023/
LOCATION:Rescue Squad Headquarters\, 2521 Rescue Drive\, North Charleston\, SC\, 2521\, United States
CATEGORIES:Training
ATTACH;FMTTYPE=image/jpeg:https://charlestonrescue.com/wp-content/uploads/2021/12/event-training.jpg
END:VEVENT
BEGIN:VEVENT
DTSTART;TZID=America/New_York:20230627T190000
DTEND;TZID=America/New_York:20230627T203000
DTSTAMP:20260420T184722
CREATED:20230119T144739Z
LAST-MODIFIED:20230123T003213Z
UID:6722-1687892400-1687897800@charlestonrescue.com
SUMMARY:Rescue Training II - June 2023
DESCRIPTION:Our ongoing comprehensive training series for new and existing members\, eager to learn and become certified in various specialties.
URL:https://charlestonrescue.com/event/rescue-training-ii-june-2023/
LOCATION:Rescue Squad Headquarters\, 2521 Rescue Drive\, North Charleston\, SC\, 2521\, United States
CATEGORIES:Training
ATTACH;FMTTYPE=image/jpeg:https://charlestonrescue.com/wp-content/uploads/2021/12/event-training.jpg
END:VEVENT
BEGIN:VEVENT
DTSTART;TZID=America/New_York:20230613T190000
DTEND;TZID=America/New_York:20230613T203000
DTSTAMP:20260420T184722
CREATED:20230119T142710Z
LAST-MODIFIED:20230119T142710Z
UID:6698-1686682800-1686688200@charlestonrescue.com
SUMMARY:Rescue Training I - June 2023
DESCRIPTION:Our ongoing comprehensive training series for new and existing members\, eager to learn and become certified in various specialties.
URL:https://charlestonrescue.com/event/rescue-training-i-june-2023/
LOCATION:Rescue Squad Headquarters\, 2521 Rescue Drive\, North Charleston\, SC\, 2521\, United States
CATEGORIES:Training
ATTACH;FMTTYPE=image/jpeg:https://charlestonrescue.com/wp-content/uploads/2021/12/event-training.jpg
END:VEVENT
BEGIN:VEVENT
DTSTART;TZID=America/New_York:20230523T190000
DTEND;TZID=America/New_York:20230523T203000
DTSTAMP:20260420T184722
CREATED:20230119T144647Z
LAST-MODIFIED:20230119T144647Z
UID:6720-1684868400-1684873800@charlestonrescue.com
SUMMARY:Rescue Training II - May 2023
DESCRIPTION:Our ongoing comprehensive training series for new and existing members\, eager to learn and become certified in various specialties.
URL:https://charlestonrescue.com/event/rescue-training-ii-may-2023/
LOCATION:Rescue Squad Headquarters\, 2521 Rescue Drive\, North Charleston\, SC\, 2521\, United States
CATEGORIES:Training
ATTACH;FMTTYPE=image/jpeg:https://charlestonrescue.com/wp-content/uploads/2021/12/event-training.jpg
END:VEVENT
BEGIN:VEVENT
DTSTART;TZID=America/New_York:20230509T190000
DTEND;TZID=America/New_York:20230509T203000
DTSTAMP:20260420T184722
CREATED:20230119T142608Z
LAST-MODIFIED:20230119T142608Z
UID:6696-1683658800-1683664200@charlestonrescue.com
SUMMARY:Rescue Training I - May 2023
DESCRIPTION:Our ongoing comprehensive training series for new and existing members\, eager to learn and become certified in various specialties.
URL:https://charlestonrescue.com/event/rescue-training-i-may-2023/
LOCATION:Rescue Squad Headquarters\, 2521 Rescue Drive\, North Charleston\, SC\, 2521\, United States
CATEGORIES:Training
ATTACH;FMTTYPE=image/jpeg:https://charlestonrescue.com/wp-content/uploads/2021/12/event-training.jpg
END:VEVENT
BEGIN:VEVENT
DTSTART;TZID=America/New_York:20230425T190000
DTEND;TZID=America/New_York:20230425T203000
DTSTAMP:20260420T184722
CREATED:20230119T144554Z
LAST-MODIFIED:20230119T144554Z
UID:6718-1682449200-1682454600@charlestonrescue.com
SUMMARY:Rescue Training II - April 2023
DESCRIPTION:Our ongoing comprehensive training series for new and existing members\, eager to learn and become certified in various specialties.
URL:https://charlestonrescue.com/event/rescue-training-ii-april-2023/
LOCATION:Rescue Squad Headquarters\, 2521 Rescue Drive\, North Charleston\, SC\, 2521\, United States
CATEGORIES:Training
ATTACH;FMTTYPE=image/jpeg:https://charlestonrescue.com/wp-content/uploads/2021/12/event-training.jpg
END:VEVENT
BEGIN:VEVENT
DTSTART;TZID=America/New_York:20230411T190000
DTEND;TZID=America/New_York:20230411T203000
DTSTAMP:20260420T184722
CREATED:20230119T142442Z
LAST-MODIFIED:20230119T142442Z
UID:6694-1681239600-1681245000@charlestonrescue.com
SUMMARY:Rescue Training I - April 2023
DESCRIPTION:Our ongoing comprehensive training series for new and existing members\, eager to learn and become certified in various specialties.
URL:https://charlestonrescue.com/event/rescue-training-i-april-2023/
LOCATION:Rescue Squad Headquarters\, 2521 Rescue Drive\, North Charleston\, SC\, 2521\, United States
CATEGORIES:Training
ATTACH;FMTTYPE=image/jpeg:https://charlestonrescue.com/wp-content/uploads/2021/12/event-training.jpg
END:VEVENT
BEGIN:VEVENT
DTSTART;TZID=America/New_York:20230328T190000
DTEND;TZID=America/New_York:20230328T203000
DTSTAMP:20260420T184722
CREATED:20230119T144504Z
LAST-MODIFIED:20230123T003503Z
UID:6716-1680030000-1680035400@charlestonrescue.com
SUMMARY:Rescue Training II - March 2023
DESCRIPTION:Our ongoing comprehensive training series for new and existing members\, eager to learn and become certified in various specialties.
URL:https://charlestonrescue.com/event/rescue-training-ii-march-2023/
LOCATION:Rescue Squad Headquarters\, 2521 Rescue Drive\, North Charleston\, SC\, 2521\, United States
CATEGORIES:Training
ATTACH;FMTTYPE=image/jpeg:https://charlestonrescue.com/wp-content/uploads/2021/12/event-training.jpg
END:VEVENT
BEGIN:VEVENT
DTSTART;TZID=America/New_York:20230314T190000
DTEND;TZID=America/New_York:20230314T203000
DTSTAMP:20260420T184722
CREATED:20230119T135230Z
LAST-MODIFIED:20230119T135230Z
UID:6692-1678820400-1678825800@charlestonrescue.com
SUMMARY:Rescue Training I - March 2023
DESCRIPTION:Our ongoing comprehensive training series for new and existing members\, eager to learn and become certified in various specialties.
URL:https://charlestonrescue.com/event/rescue-training-i-march-2023/
LOCATION:Rescue Squad Headquarters\, 2521 Rescue Drive\, North Charleston\, SC\, 2521\, United States
CATEGORIES:Training
ATTACH;FMTTYPE=image/jpeg:https://charlestonrescue.com/wp-content/uploads/2021/12/event-training.jpg
END:VEVENT
BEGIN:VEVENT
DTSTART;TZID=America/New_York:20230228T190000
DTEND;TZID=America/New_York:20230228T203000
DTSTAMP:20260420T184722
CREATED:20230119T144345Z
LAST-MODIFIED:20230123T003432Z
UID:6714-1677610800-1677616200@charlestonrescue.com
SUMMARY:Rescue Training II - February 2023
DESCRIPTION:Our ongoing comprehensive training series for new and existing members\, eager to learn and become certified in various specialties.
URL:https://charlestonrescue.com/event/rescue-training-ii-february-2023/
LOCATION:Rescue Squad Headquarters\, 2521 Rescue Drive\, North Charleston\, SC\, 2521\, United States
CATEGORIES:Training
ATTACH;FMTTYPE=image/jpeg:https://charlestonrescue.com/wp-content/uploads/2021/12/event-training.jpg
END:VEVENT
BEGIN:VEVENT
DTSTART;TZID=America/New_York:20230214T190000
DTEND;TZID=America/New_York:20230214T203000
DTSTAMP:20260420T184722
CREATED:20230119T135109Z
LAST-MODIFIED:20230119T135109Z
UID:6690-1676401200-1676406600@charlestonrescue.com
SUMMARY:Rescue Training I - February 2023
DESCRIPTION:Our ongoing comprehensive training series for new and existing members\, eager to learn and become certified in various specialties.
URL:https://charlestonrescue.com/event/rescue-training-i-february-2023/
LOCATION:Rescue Squad Headquarters\, 2521 Rescue Drive\, North Charleston\, SC\, 2521\, United States
CATEGORIES:Training
ATTACH;FMTTYPE=image/jpeg:https://charlestonrescue.com/wp-content/uploads/2021/12/event-training.jpg
END:VEVENT
END:VCALENDAR