BEGIN:VCALENDAR
VERSION:2.0
PRODID:-//Charleston County Rescue Squad - ECPv6.15.20//NONSGML v1.0//EN
CALSCALE:GREGORIAN
METHOD:PUBLISH
X-WR-CALNAME:Charleston County Rescue Squad
X-ORIGINAL-URL:https://charlestonrescue.com
X-WR-CALDESC:Events for Charleston County Rescue Squad
REFRESH-INTERVAL;VALUE=DURATION:PT1H
X-Robots-Tag:noindex
X-PUBLISHED-TTL:PT1H
BEGIN:VTIMEZONE
TZID:America/New_York
BEGIN:DAYLIGHT
TZOFFSETFROM:-0500
TZOFFSETTO:-0400
TZNAME:EDT
DTSTART:20220313T070000
END:DAYLIGHT
BEGIN:STANDARD
TZOFFSETFROM:-0400
TZOFFSETTO:-0500
TZNAME:EST
DTSTART:20221106T060000
END:STANDARD
BEGIN:DAYLIGHT
TZOFFSETFROM:-0500
TZOFFSETTO:-0400
TZNAME:EDT
DTSTART:20230312T070000
END:DAYLIGHT
BEGIN:STANDARD
TZOFFSETFROM:-0400
TZOFFSETTO:-0500
TZNAME:EST
DTSTART:20231105T060000
END:STANDARD
BEGIN:DAYLIGHT
TZOFFSETFROM:-0500
TZOFFSETTO:-0400
TZNAME:EDT
DTSTART:20240310T070000
END:DAYLIGHT
BEGIN:STANDARD
TZOFFSETFROM:-0400
TZOFFSETTO:-0500
TZNAME:EST
DTSTART:20241103T060000
END:STANDARD
END:VTIMEZONE
BEGIN:VEVENT
DTSTART;TZID=America/New_York:20230502T190000
DTEND;TZID=America/New_York:20230502T203000
DTSTAMP:20260424T044537
CREATED:20230123T004305Z
LAST-MODIFIED:20230123T004825Z
UID:6804-1683054000-1683059400@charlestonrescue.com
SUMMARY:Business Meeting – May 2023
DESCRIPTION:Our business meetings serve as an opportunity to collectively discuss and make decisions around the Rescue Squad’s objectives and operations.
URL:https://charlestonrescue.com/event/business-meeting-may-2023/
LOCATION:Rescue Squad Headquarters\, 2521 Rescue Drive\, North Charleston\, SC\, 2521\, United States
CATEGORIES:Outreach
ATTACH;FMTTYPE=image/jpeg:https://charlestonrescue.com/wp-content/uploads/2021/07/event-business-meeting.jpg
END:VEVENT
END:VCALENDAR