BEGIN:VCALENDAR
VERSION:2.0
PRODID:-//Charleston County Rescue Squad - ECPv6.15.20//NONSGML v1.0//EN
CALSCALE:GREGORIAN
METHOD:PUBLISH
X-ORIGINAL-URL:https://charlestonrescue.com
X-WR-CALDESC:Events for Charleston County Rescue Squad
REFRESH-INTERVAL;VALUE=DURATION:PT1H
X-Robots-Tag:noindex
X-PUBLISHED-TTL:PT1H
BEGIN:VTIMEZONE
TZID:America/New_York
BEGIN:DAYLIGHT
TZOFFSETFROM:-0500
TZOFFSETTO:-0400
TZNAME:EDT
DTSTART:20210314T070000
END:DAYLIGHT
BEGIN:STANDARD
TZOFFSETFROM:-0400
TZOFFSETTO:-0500
TZNAME:EST
DTSTART:20211107T060000
END:STANDARD
BEGIN:DAYLIGHT
TZOFFSETFROM:-0500
TZOFFSETTO:-0400
TZNAME:EDT
DTSTART:20220313T070000
END:DAYLIGHT
BEGIN:STANDARD
TZOFFSETFROM:-0400
TZOFFSETTO:-0500
TZNAME:EST
DTSTART:20221106T060000
END:STANDARD
BEGIN:DAYLIGHT
TZOFFSETFROM:-0500
TZOFFSETTO:-0400
TZNAME:EDT
DTSTART:20230312T070000
END:DAYLIGHT
BEGIN:STANDARD
TZOFFSETFROM:-0400
TZOFFSETTO:-0500
TZNAME:EST
DTSTART:20231105T060000
END:STANDARD
BEGIN:DAYLIGHT
TZOFFSETFROM:-0500
TZOFFSETTO:-0400
TZNAME:EDT
DTSTART:20240310T070000
END:DAYLIGHT
BEGIN:STANDARD
TZOFFSETFROM:-0400
TZOFFSETTO:-0500
TZNAME:EST
DTSTART:20241103T060000
END:STANDARD
BEGIN:DAYLIGHT
TZOFFSETFROM:-0500
TZOFFSETTO:-0400
TZNAME:EDT
DTSTART:20250309T070000
END:DAYLIGHT
BEGIN:STANDARD
TZOFFSETFROM:-0400
TZOFFSETTO:-0500
TZNAME:EST
DTSTART:20251102T060000
END:STANDARD
END:VTIMEZONE
BEGIN:VEVENT
DTSTART;TZID=America/New_York:20240220T190000
DTEND;TZID=America/New_York:20240220T203000
DTSTAMP:20260420T202916
CREATED:20240215T195657Z
LAST-MODIFIED:20240215T195657Z
UID:10867-1708455600-1708461000@charlestonrescue.com
SUMMARY:Committee Meeting – February 2024
DESCRIPTION:Our committee meetings primarily focus on the status and needs of the committees (finance\, facilities\, tools\, vehicles\, and so forth).
URL:https://charlestonrescue.com/event/committee-meeting-february-2024/
LOCATION:Rescue Squad Headquarters\, 2521 Rescue Drive\, North Charleston\, SC\, 2521\, United States
CATEGORIES:Meeting
ATTACH;FMTTYPE=image/jpeg:https://charlestonrescue.com/wp-content/uploads/2021/07/event-committee-meeting.jpg
END:VEVENT
BEGIN:VEVENT
DTSTART;TZID=America/New_York:20240206T190000
DTEND;TZID=America/New_York:20240206T203000
DTSTAMP:20260420T202916
CREATED:20240221T004330Z
LAST-MODIFIED:20240221T004330Z
UID:11137-1707246000-1707251400@charlestonrescue.com
SUMMARY:Business Meeting – February 2024
DESCRIPTION:Our business meetings serve as an opportunity to collectively discuss and make decisions around the Rescue Squad’s objectives and operations.
URL:https://charlestonrescue.com/event/business-meeting-february-2024/
LOCATION:Rescue Squad Headquarters\, 2521 Rescue Drive\, North Charleston\, SC\, 2521\, United States
CATEGORIES:Meeting
ATTACH;FMTTYPE=image/jpeg:https://charlestonrescue.com/wp-content/uploads/2021/07/event-business-meeting.jpg
END:VEVENT
BEGIN:VEVENT
DTSTART;TZID=America/New_York:20240116T190000
DTEND;TZID=America/New_York:20240116T203000
DTSTAMP:20260420T202916
CREATED:20240215T195550Z
LAST-MODIFIED:20240215T195550Z
UID:10865-1705431600-1705437000@charlestonrescue.com
SUMMARY:Committee Meeting – January 2024
DESCRIPTION:Our committee meetings primarily focus on the status and needs of the committees (finance\, facilities\, tools\, vehicles\, and so forth).
URL:https://charlestonrescue.com/event/committee-meeting-january-2024/
LOCATION:Rescue Squad Headquarters\, 2521 Rescue Drive\, North Charleston\, SC\, 2521\, United States
CATEGORIES:Meeting
ATTACH;FMTTYPE=image/jpeg:https://charlestonrescue.com/wp-content/uploads/2021/07/event-committee-meeting.jpg
END:VEVENT
BEGIN:VEVENT
DTSTART;TZID=America/New_York:20240102T190000
DTEND;TZID=America/New_York:20240102T203000
DTSTAMP:20260420T202916
CREATED:20240221T004240Z
LAST-MODIFIED:20240221T004240Z
UID:11135-1704222000-1704227400@charlestonrescue.com
SUMMARY:Business Meeting – January 2024
DESCRIPTION:Our business meetings serve as an opportunity to collectively discuss and make decisions around the Rescue Squad’s objectives and operations.
URL:https://charlestonrescue.com/event/business-meeting-january-2024/
LOCATION:Rescue Squad Headquarters\, 2521 Rescue Drive\, North Charleston\, SC\, 2521\, United States
CATEGORIES:Meeting
ATTACH;FMTTYPE=image/jpeg:https://charlestonrescue.com/wp-content/uploads/2021/07/event-business-meeting.jpg
END:VEVENT
BEGIN:VEVENT
DTSTART;TZID=America/New_York:20231219T190000
DTEND;TZID=America/New_York:20231219T203000
DTSTAMP:20260420T202916
CREATED:20230123T003049Z
LAST-MODIFIED:20230123T003058Z
UID:6793-1703012400-1703017800@charlestonrescue.com
SUMMARY:Committee Meeting – December 2023
DESCRIPTION:Our committee meetings primarily focus on the status and needs of the committees (finance\, facilities\, tools\, vehicles\, and so forth).
URL:https://charlestonrescue.com/event/committee-meeting-december-2023/
LOCATION:Rescue Squad Headquarters\, 2521 Rescue Drive\, North Charleston\, SC\, 2521\, United States
CATEGORIES:Meeting
ATTACH;FMTTYPE=image/jpeg:https://charlestonrescue.com/wp-content/uploads/2021/07/event-committee-meeting.jpg
END:VEVENT
BEGIN:VEVENT
DTSTART;TZID=America/New_York:20231205T190000
DTEND;TZID=America/New_York:20231205T203000
DTSTAMP:20260420T202916
CREATED:20230123T005207Z
LAST-MODIFIED:20230123T005207Z
UID:6818-1701802800-1701808200@charlestonrescue.com
SUMMARY:Business Meeting – December 2023
DESCRIPTION:Our business meetings serve as an opportunity to collectively discuss and make decisions around the Rescue Squad’s objectives and operations.
URL:https://charlestonrescue.com/event/business-meeting-december-2023/
LOCATION:Rescue Squad Headquarters\, 2521 Rescue Drive\, North Charleston\, SC\, 2521\, United States
CATEGORIES:Meeting
ATTACH;FMTTYPE=image/jpeg:https://charlestonrescue.com/wp-content/uploads/2021/07/event-business-meeting.jpg
END:VEVENT
BEGIN:VEVENT
DTSTART;TZID=America/New_York:20231121T190000
DTEND;TZID=America/New_York:20231121T203000
DTSTAMP:20260420T202916
CREATED:20230123T002958Z
LAST-MODIFIED:20230123T003705Z
UID:6791-1700593200-1700598600@charlestonrescue.com
SUMMARY:Committee Meeting – November 2023
DESCRIPTION:Our committee meetings primarily focus on the status and needs of the committees (finance\, facilities\, tools\, vehicles\, and so forth).
URL:https://charlestonrescue.com/event/committee-meeting-november-2023/
LOCATION:Rescue Squad Headquarters\, 2521 Rescue Drive\, North Charleston\, SC\, 2521\, United States
CATEGORIES:Meeting
ATTACH;FMTTYPE=image/jpeg:https://charlestonrescue.com/wp-content/uploads/2021/07/event-committee-meeting.jpg
END:VEVENT
BEGIN:VEVENT
DTSTART;TZID=America/New_York:20231107T190000
DTEND;TZID=America/New_York:20231107T203000
DTSTAMP:20260420T202916
CREATED:20230123T004943Z
LAST-MODIFIED:20230123T005104Z
UID:6816-1699383600-1699389000@charlestonrescue.com
SUMMARY:Business Meeting – November 2023
DESCRIPTION:Our business meetings serve as an opportunity to collectively discuss and make decisions around the Rescue Squad’s objectives and operations.
URL:https://charlestonrescue.com/event/business-meeting-november-2023/
LOCATION:Rescue Squad Headquarters\, 2521 Rescue Drive\, North Charleston\, SC\, 2521\, United States
CATEGORIES:Meeting
ATTACH;FMTTYPE=image/jpeg:https://charlestonrescue.com/wp-content/uploads/2021/07/event-business-meeting.jpg
END:VEVENT
BEGIN:VEVENT
DTSTART;TZID=America/New_York:20231017T190000
DTEND;TZID=America/New_York:20231017T203000
DTSTAMP:20260420T202916
CREATED:20230123T002915Z
LAST-MODIFIED:20230123T002915Z
UID:6789-1697569200-1697574600@charlestonrescue.com
SUMMARY:Committee Meeting – October 2023
DESCRIPTION:Our committee meetings primarily focus on the status and needs of the committees (finance\, facilities\, tools\, vehicles\, and so forth).
URL:https://charlestonrescue.com/event/committee-meeting-october-2023/
LOCATION:Rescue Squad Headquarters\, 2521 Rescue Drive\, North Charleston\, SC\, 2521\, United States
CATEGORIES:Meeting
ATTACH;FMTTYPE=image/jpeg:https://charlestonrescue.com/wp-content/uploads/2021/07/event-committee-meeting.jpg
END:VEVENT
BEGIN:VEVENT
DTSTART;TZID=America/New_York:20231003T190000
DTEND;TZID=America/New_York:20231003T203000
DTSTAMP:20260420T202916
CREATED:20230123T004737Z
LAST-MODIFIED:20230123T005045Z
UID:6814-1696359600-1696365000@charlestonrescue.com
SUMMARY:Business Meeting – October 2023
DESCRIPTION:Our business meetings serve as an opportunity to collectively discuss and make decisions around the Rescue Squad’s objectives and operations.
URL:https://charlestonrescue.com/event/business-meeting-october-2023/
LOCATION:Rescue Squad Headquarters\, 2521 Rescue Drive\, North Charleston\, SC\, 2521\, United States
CATEGORIES:Meeting
ATTACH;FMTTYPE=image/jpeg:https://charlestonrescue.com/wp-content/uploads/2021/07/event-business-meeting.jpg
END:VEVENT
BEGIN:VEVENT
DTSTART;TZID=America/New_York:20230919T190000
DTEND;TZID=America/New_York:20230919T203000
DTSTAMP:20260420T202916
CREATED:20230123T002830Z
LAST-MODIFIED:20230123T002830Z
UID:6787-1695150000-1695155400@charlestonrescue.com
SUMMARY:Committee Meeting – September 2023
DESCRIPTION:Our committee meetings primarily focus on the status and needs of the committees (finance\, facilities\, tools\, vehicles\, and so forth).
URL:https://charlestonrescue.com/event/committee-meeting-september-2023/
LOCATION:Rescue Squad Headquarters\, 2521 Rescue Drive\, North Charleston\, SC\, 2521\, United States
CATEGORIES:Meeting
ATTACH;FMTTYPE=image/jpeg:https://charlestonrescue.com/wp-content/uploads/2021/07/event-committee-meeting.jpg
END:VEVENT
BEGIN:VEVENT
DTSTART;TZID=America/New_York:20230905T190000
DTEND;TZID=America/New_York:20230905T203000
DTSTAMP:20260420T202916
CREATED:20230123T004650Z
LAST-MODIFIED:20230123T004701Z
UID:6812-1693940400-1693945800@charlestonrescue.com
SUMMARY:Business Meeting – September 2023
DESCRIPTION:Our business meetings serve as an opportunity to collectively discuss and make decisions around the Rescue Squad’s objectives and operations.
URL:https://charlestonrescue.com/event/business-meeting-september-2023/
LOCATION:Rescue Squad Headquarters\, 2521 Rescue Drive\, North Charleston\, SC\, 2521\, United States
CATEGORIES:Meeting
ATTACH;FMTTYPE=image/jpeg:https://charlestonrescue.com/wp-content/uploads/2021/07/event-business-meeting.jpg
END:VEVENT
BEGIN:VEVENT
DTSTART;TZID=America/New_York:20230815T190000
DTEND;TZID=America/New_York:20230815T203000
DTSTAMP:20260420T202916
CREATED:20230123T002743Z
LAST-MODIFIED:20230123T002743Z
UID:6785-1692126000-1692131400@charlestonrescue.com
SUMMARY:Committee Meeting – August 2023
DESCRIPTION:Our committee meetings primarily focus on the status and needs of the committees (finance\, facilities\, tools\, vehicles\, and so forth).
URL:https://charlestonrescue.com/event/committee-meeting-august-2023/
LOCATION:Rescue Squad Headquarters\, 2521 Rescue Drive\, North Charleston\, SC\, 2521\, United States
CATEGORIES:Meeting
ATTACH;FMTTYPE=image/jpeg:https://charlestonrescue.com/wp-content/uploads/2021/07/event-committee-meeting.jpg
END:VEVENT
BEGIN:VEVENT
DTSTART;TZID=America/New_York:20230801T190000
DTEND;TZID=America/New_York:20230801T203000
DTSTAMP:20260420T202916
CREATED:20230123T004603Z
LAST-MODIFIED:20230123T004603Z
UID:6810-1690916400-1690921800@charlestonrescue.com
SUMMARY:Business Meeting – August 2023
DESCRIPTION:Our business meetings serve as an opportunity to collectively discuss and make decisions around the Rescue Squad’s objectives and operations.
URL:https://charlestonrescue.com/event/business-meeting-august-2023/
LOCATION:Rescue Squad Headquarters\, 2521 Rescue Drive\, North Charleston\, SC\, 2521\, United States
CATEGORIES:Meeting
ATTACH;FMTTYPE=image/jpeg:https://charlestonrescue.com/wp-content/uploads/2021/07/event-business-meeting.jpg
END:VEVENT
BEGIN:VEVENT
DTSTART;TZID=America/New_York:20230718T190000
DTEND;TZID=America/New_York:20230718T203000
DTSTAMP:20260420T202916
CREATED:20230123T002659Z
LAST-MODIFIED:20230123T002659Z
UID:6783-1689706800-1689712200@charlestonrescue.com
SUMMARY:Committee Meeting – July 2023
DESCRIPTION:Our committee meetings primarily focus on the status and needs of the committees (finance\, facilities\, tools\, vehicles\, and so forth).
URL:https://charlestonrescue.com/event/committee-meeting-july-2023/
LOCATION:Rescue Squad Headquarters\, 2521 Rescue Drive\, North Charleston\, SC\, 2521\, United States
CATEGORIES:Meeting
ATTACH;FMTTYPE=image/jpeg:https://charlestonrescue.com/wp-content/uploads/2021/07/event-committee-meeting.jpg
END:VEVENT
BEGIN:VEVENT
DTSTART;TZID=America/New_York:20230704T190000
DTEND;TZID=America/New_York:20230704T203000
DTSTAMP:20260420T202916
CREATED:20230123T004516Z
LAST-MODIFIED:20230123T004516Z
UID:6808-1688497200-1688502600@charlestonrescue.com
SUMMARY:Business Meeting – July 2023
DESCRIPTION:Our business meetings serve as an opportunity to collectively discuss and make decisions around the Rescue Squad’s objectives and operations.
URL:https://charlestonrescue.com/event/business-meeting-july-2023/
LOCATION:Rescue Squad Headquarters\, 2521 Rescue Drive\, North Charleston\, SC\, 2521\, United States
CATEGORIES:Meeting
ATTACH;FMTTYPE=image/jpeg:https://charlestonrescue.com/wp-content/uploads/2021/07/event-business-meeting.jpg
END:VEVENT
BEGIN:VEVENT
DTSTART;TZID=America/New_York:20230620T190000
DTEND;TZID=America/New_York:20230620T203000
DTSTAMP:20260420T202916
CREATED:20230123T002619Z
LAST-MODIFIED:20230123T002619Z
UID:6781-1687287600-1687293000@charlestonrescue.com
SUMMARY:Committee Meeting – June 2023
DESCRIPTION:Our committee meetings primarily focus on the status and needs of the committees (finance\, facilities\, tools\, vehicles\, and so forth).
URL:https://charlestonrescue.com/event/committee-meeting-june-2023/
LOCATION:Rescue Squad Headquarters\, 2521 Rescue Drive\, North Charleston\, SC\, 2521\, United States
CATEGORIES:Meeting
ATTACH;FMTTYPE=image/jpeg:https://charlestonrescue.com/wp-content/uploads/2021/07/event-committee-meeting.jpg
END:VEVENT
BEGIN:VEVENT
DTSTART;TZID=America/New_York:20230606T190000
DTEND;TZID=America/New_York:20230606T203000
DTSTAMP:20260420T202916
CREATED:20230123T004430Z
LAST-MODIFIED:20230123T004430Z
UID:6806-1686078000-1686083400@charlestonrescue.com
SUMMARY:Business Meeting – June 2023
DESCRIPTION:Our business meetings serve as an opportunity to collectively discuss and make decisions around the Rescue Squad’s objectives and operations.
URL:https://charlestonrescue.com/event/business-meeting-june-2023/
LOCATION:Rescue Squad Headquarters\, 2521 Rescue Drive\, North Charleston\, SC\, 2521\, United States
CATEGORIES:Meeting
ATTACH;FMTTYPE=image/jpeg:https://charlestonrescue.com/wp-content/uploads/2021/07/event-business-meeting.jpg
END:VEVENT
BEGIN:VEVENT
DTSTART;TZID=America/New_York:20230516T190000
DTEND;TZID=America/New_York:20230516T203000
DTSTAMP:20260420T202916
CREATED:20230123T002510Z
LAST-MODIFIED:20230123T002510Z
UID:6779-1684263600-1684269000@charlestonrescue.com
SUMMARY:Committee Meeting – May 2023
DESCRIPTION:Our committee meetings primarily focus on the status and needs of the committees (finance\, facilities\, tools\, vehicles\, and so forth).
URL:https://charlestonrescue.com/event/committee-meeting-may-2023/
LOCATION:Rescue Squad Headquarters\, 2521 Rescue Drive\, North Charleston\, SC\, 2521\, United States
CATEGORIES:Meeting
ATTACH;FMTTYPE=image/jpeg:https://charlestonrescue.com/wp-content/uploads/2021/07/event-committee-meeting.jpg
END:VEVENT
BEGIN:VEVENT
DTSTART;TZID=America/New_York:20230418T190000
DTEND;TZID=America/New_York:20230418T203000
DTSTAMP:20260420T202916
CREATED:20230123T002423Z
LAST-MODIFIED:20230123T002423Z
UID:6777-1681844400-1681849800@charlestonrescue.com
SUMMARY:Committee Meeting – April 2023
DESCRIPTION:Our committee meetings primarily focus on the status and needs of the committees (finance\, facilities\, tools\, vehicles\, and so forth).
URL:https://charlestonrescue.com/event/committee-meeting-april-2023/
LOCATION:Rescue Squad Headquarters\, 2521 Rescue Drive\, North Charleston\, SC\, 2521\, United States
CATEGORIES:Meeting
ATTACH;FMTTYPE=image/jpeg:https://charlestonrescue.com/wp-content/uploads/2021/07/event-committee-meeting.jpg
END:VEVENT
BEGIN:VEVENT
DTSTART;TZID=America/New_York:20230404T190000
DTEND;TZID=America/New_York:20230404T203000
DTSTAMP:20260420T202916
CREATED:20230123T004223Z
LAST-MODIFIED:20230123T004223Z
UID:6802-1680634800-1680640200@charlestonrescue.com
SUMMARY:Business Meeting – April 2023
DESCRIPTION:Our business meetings serve as an opportunity to collectively discuss and make decisions around the Rescue Squad’s objectives and operations.
URL:https://charlestonrescue.com/event/business-meeting-april-2023/
LOCATION:Rescue Squad Headquarters\, 2521 Rescue Drive\, North Charleston\, SC\, 2521\, United States
CATEGORIES:Meeting
ATTACH;FMTTYPE=image/jpeg:https://charlestonrescue.com/wp-content/uploads/2021/07/event-business-meeting.jpg
END:VEVENT
BEGIN:VEVENT
DTSTART;TZID=America/New_York:20230321T190000
DTEND;TZID=America/New_York:20230321T203000
DTSTAMP:20260420T202916
CREATED:20230123T002331Z
LAST-MODIFIED:20230123T002331Z
UID:6775-1679425200-1679430600@charlestonrescue.com
SUMMARY:Committee Meeting – March 2023
DESCRIPTION:Our committee meetings primarily focus on the status and needs of the committees (finance\, facilities\, tools\, vehicles\, and so forth).
URL:https://charlestonrescue.com/event/committee-meeting-march-2023/
LOCATION:Rescue Squad Headquarters\, 2521 Rescue Drive\, North Charleston\, SC\, 2521\, United States
CATEGORIES:Meeting
ATTACH;FMTTYPE=image/jpeg:https://charlestonrescue.com/wp-content/uploads/2021/07/event-committee-meeting.jpg
END:VEVENT
BEGIN:VEVENT
DTSTART;TZID=America/New_York:20230307T190000
DTEND;TZID=America/New_York:20230307T203000
DTSTAMP:20260420T202916
CREATED:20230123T004131Z
LAST-MODIFIED:20230123T004131Z
UID:6800-1678215600-1678221000@charlestonrescue.com
SUMMARY:Business Meeting – March 2023
DESCRIPTION:Our business meetings serve as an opportunity to collectively discuss and make decisions around the Rescue Squad’s objectives and operations.
URL:https://charlestonrescue.com/event/business-meeting-march-2023/
LOCATION:Rescue Squad Headquarters\, 2521 Rescue Drive\, North Charleston\, SC\, 2521\, United States
CATEGORIES:Meeting
ATTACH;FMTTYPE=image/jpeg:https://charlestonrescue.com/wp-content/uploads/2021/07/event-business-meeting.jpg
END:VEVENT
BEGIN:VEVENT
DTSTART;TZID=America/New_York:20230221T190000
DTEND;TZID=America/New_York:20230221T203000
DTSTAMP:20260420T202916
CREATED:20230123T002047Z
LAST-MODIFIED:20230123T002047Z
UID:6773-1677006000-1677011400@charlestonrescue.com
SUMMARY:Committee Meeting – February 2023
DESCRIPTION:Our committee meetings primarily focus on the status and needs of the committees (finance\, facilities\, tools\, vehicles\, and so forth).
URL:https://charlestonrescue.com/event/committee-meeting-february-2023/
LOCATION:Rescue Squad Headquarters\, 2521 Rescue Drive\, North Charleston\, SC\, 2521\, United States
CATEGORIES:Meeting
ATTACH;FMTTYPE=image/jpeg:https://charlestonrescue.com/wp-content/uploads/2021/07/event-committee-meeting.jpg
END:VEVENT
BEGIN:VEVENT
DTSTART;TZID=America/New_York:20230207T190000
DTEND;TZID=America/New_York:20230207T203000
DTSTAMP:20260420T202916
CREATED:20230123T003937Z
LAST-MODIFIED:20230123T004003Z
UID:6797-1675796400-1675801800@charlestonrescue.com
SUMMARY:Business Meeting – February 2023
DESCRIPTION:Our business meetings serve as an opportunity to collectively discuss and make decisions around the Rescue Squad’s objectives and operations.
URL:https://charlestonrescue.com/event/business-meeting-february-2023/
LOCATION:Rescue Squad Headquarters\, 2521 Rescue Drive\, North Charleston\, SC\, 2521\, United States
CATEGORIES:Meeting
ATTACH;FMTTYPE=image/jpeg:https://charlestonrescue.com/wp-content/uploads/2021/07/event-business-meeting.jpg
END:VEVENT
BEGIN:VEVENT
DTSTART;TZID=America/New_York:20230117T190000
DTEND;TZID=America/New_York:20230117T203000
DTSTAMP:20260420T202916
CREATED:20230123T001325Z
LAST-MODIFIED:20230123T001325Z
UID:6771-1673982000-1673987400@charlestonrescue.com
SUMMARY:Committee Meeting – January 2023
DESCRIPTION:Our committee meetings primarily focus on the status and needs of the committees (finance\, facilities\, tools\, vehicles\, and so forth).
URL:https://charlestonrescue.com/event/committee-meeting-january-2023/
LOCATION:Rescue Squad Headquarters\, 2521 Rescue Drive\, North Charleston\, SC\, 2521\, United States
CATEGORIES:Meeting
ATTACH;FMTTYPE=image/jpeg:https://charlestonrescue.com/wp-content/uploads/2021/07/event-committee-meeting.jpg
END:VEVENT
BEGIN:VEVENT
DTSTART;TZID=America/New_York:20230103T190000
DTEND;TZID=America/New_York:20230103T203000
DTSTAMP:20260420T202916
CREATED:20230123T003852Z
LAST-MODIFIED:20230123T003852Z
UID:6795-1672772400-1672777800@charlestonrescue.com
SUMMARY:Business Meeting – January 2023
DESCRIPTION:Our business meetings serve as an opportunity to collectively discuss and make decisions around the Rescue Squad’s objectives and operations.
URL:https://charlestonrescue.com/event/business-meeting-january-2023/
LOCATION:Rescue Squad Headquarters\, 2521 Rescue Drive\, North Charleston\, SC\, 2521\, United States
CATEGORIES:Meeting
ATTACH;FMTTYPE=image/jpeg:https://charlestonrescue.com/wp-content/uploads/2021/07/event-business-meeting.jpg
END:VEVENT
BEGIN:VEVENT
DTSTART;TZID=America/New_York:20221220T190000
DTEND;TZID=America/New_York:20221220T203000
DTSTAMP:20260420T202916
CREATED:20221220T180000Z
LAST-MODIFIED:20230123T001228Z
UID:776-1671562800-1671568200@charlestonrescue.com
SUMMARY:Committee Meeting - December 2022
DESCRIPTION:Our committee meetings primarily focus on the status and needs of the committees (finance\, facilities\, tools\, vehicles\, and so forth).
URL:https://charlestonrescue.com/event/committee-meeting-december-2022/
LOCATION:Rescue Squad Headquarters\, 2521 Rescue Drive\, North Charleston\, SC\, 2521\, United States
CATEGORIES:Meeting
ATTACH;FMTTYPE=image/jpeg:https://charlestonrescue.com/wp-content/uploads/2021/07/event-committee-meeting.jpg
END:VEVENT
BEGIN:VEVENT
DTSTART;TZID=America/New_York:20221206T190000
DTEND;TZID=America/New_York:20221206T203000
DTSTAMP:20260420T202916
CREATED:20210720T134056Z
LAST-MODIFIED:20230514T183208Z
UID:738-1670353200-1670358600@charlestonrescue.com
SUMMARY:Business Meeting - December 2022
DESCRIPTION:Our business meetings serve as an opportunity to collectively discuss and make decisions around the Rescue Squad’s objectives and operations.
URL:https://charlestonrescue.com/event/business-meeting-december-2022/
LOCATION:Rescue Squad Headquarters\, 2521 Rescue Drive\, North Charleston\, SC\, 2521\, United States
CATEGORIES:Meeting
ATTACH;FMTTYPE=image/jpeg:https://charlestonrescue.com/wp-content/uploads/2021/07/event-business-meeting.jpg
END:VEVENT
BEGIN:VEVENT
DTSTART;TZID=America/New_York:20221115T190000
DTEND;TZID=America/New_York:20221115T203000
DTSTAMP:20260420T202916
CREATED:20221116T050000Z
LAST-MODIFIED:20211220T220534Z
UID:774-1668538800-1668544200@charlestonrescue.com
SUMMARY:Committee Meeting - November 2022
DESCRIPTION:Our committee meetings primarily focus on the status and needs of the committees (finance\, facilities\, tools\, vehicles\, and so forth).
URL:https://charlestonrescue.com/event/committee-meeting-november-2022/
LOCATION:Rescue Squad Headquarters\, 2521 Rescue Drive\, North Charleston\, SC\, 2521\, United States
CATEGORIES:Meeting
ATTACH;FMTTYPE=image/jpeg:https://charlestonrescue.com/wp-content/uploads/2021/07/event-committee-meeting.jpg
END:VEVENT
END:VCALENDAR